BEGIN:VCALENDAR
VERSION:2.0
PRODID:Imitheme.com 
BEGIN:VEVENT
UID:20260422T1646351792763460
DTSTAMP;TZID=UTC:2026-04-22 16:46:35
DTSTART;TZID=America/Los_Angeles:20260422T164635
DTEND;TZID=America/Los_Angeles:20260422T164635
SUMMARY:Choir Rehearsal
LOCATION:532 Country Day Road\, Goldsboro\, NC 27530
DESCRIPTION:
URL:https://goodshepherdgoldsboro.org/eventer/choir-rehearsal-2/
END:VEVENT
END:VCALENDAR
