BEGIN:VCALENDAR
VERSION:2.0
PRODID:Imitheme.com 
BEGIN:VEVENT
UID:20260423T0032091628890035
DTSTAMP;TZID=UTC:2026-04-23 00:32:09
DTSTART;TZID=America/Los_Angeles:20260423T003209
DTEND;TZID=America/Los_Angeles:20260423T003209
SUMMARY:PPK Chapel - First Presbyterian
LOCATION:Sanctuary
DESCRIPTION:
URL:https://goodshepherdgoldsboro.org/eventer/ppk-chapel-first-presbyterian-2/
END:VEVENT
END:VCALENDAR
